BEGIN:VCALENDAR
VERSION:2.0
PRODID:-//Vikersbygden - ECPv6.15.20//NONSGML v1.0//EN
CALSCALE:GREGORIAN
METHOD:PUBLISH
X-WR-CALNAME:Vikersbygden
X-ORIGINAL-URL:https://vikersbygden.se
X-WR-CALDESC:Händelser för Vikersbygden
REFRESH-INTERVAL;VALUE=DURATION:PT1H
X-Robots-Tag:noindex
X-PUBLISHED-TTL:PT1H
BEGIN:VTIMEZONE
TZID:Europe/Stockholm
BEGIN:DAYLIGHT
TZOFFSETFROM:+0100
TZOFFSETTO:+0200
TZNAME:CEST
DTSTART:20250330T010000
END:DAYLIGHT
BEGIN:STANDARD
TZOFFSETFROM:+0200
TZOFFSETTO:+0100
TZNAME:CET
DTSTART:20251026T010000
END:STANDARD
BEGIN:DAYLIGHT
TZOFFSETFROM:+0100
TZOFFSETTO:+0200
TZNAME:CEST
DTSTART:20260329T010000
END:DAYLIGHT
BEGIN:STANDARD
TZOFFSETFROM:+0200
TZOFFSETTO:+0100
TZNAME:CET
DTSTART:20261025T010000
END:STANDARD
BEGIN:DAYLIGHT
TZOFFSETFROM:+0100
TZOFFSETTO:+0200
TZNAME:CEST
DTSTART:20270328T010000
END:DAYLIGHT
BEGIN:STANDARD
TZOFFSETFROM:+0200
TZOFFSETTO:+0100
TZNAME:CET
DTSTART:20271031T010000
END:STANDARD
END:VTIMEZONE
BEGIN:VEVENT
DTSTART;TZID=Europe/Stockholm:20260430T173000
DTEND;TZID=Europe/Stockholm:20260430T200000
DTSTAMP:20260425T142417
CREATED:20260414T054250Z
LAST-MODIFIED:20260414T054251Z
UID:782-1777570200-1777579200@vikersbygden.se
SUMMARY:Valborgsfirande vid Smedjan
DESCRIPTION:
URL:https://vikersbygden.se/event/valborgsfirande-vid-smedjan/
LOCATION:Smedjan\, Dalkarlsberg 508\, Gyttorp\, 713 92\, Sweden
END:VEVENT
END:VCALENDAR